BEGIN:VCALENDAR
VERSION:2.0
PRODID:-//Mairie de Théoule-sur-Mer - ECPv6.15.11//NONSGML v1.0//EN
CALSCALE:GREGORIAN
METHOD:PUBLISH
X-WR-CALNAME:Mairie de Théoule-sur-Mer
X-ORIGINAL-URL:https://theoule-sur-mer.fr
X-WR-CALDESC:Évènements pour Mairie de Théoule-sur-Mer
REFRESH-INTERVAL;VALUE=DURATION:PT1H
X-Robots-Tag:noindex
X-PUBLISHED-TTL:PT1H
BEGIN:VTIMEZONE
TZID:UTC
BEGIN:STANDARD
TZOFFSETFROM:+0000
TZOFFSETTO:+0000
TZNAME:UTC
DTSTART:20240101T000000
END:STANDARD
END:VTIMEZONE
BEGIN:VEVENT
DTSTART;TZID=UTC:20250318T100000
DTEND;TZID=UTC:20250324T183000
DTSTAMP:20260421T040841
CREATED:20250219T110241Z
LAST-MODIFIED:20250304T093824Z
UID:6311-1742292000-1742841000@theoule-sur-mer.fr
SUMMARY:Exposition Florence Vautherot
DESCRIPTION:Exposition peintures abstraites.
URL:https://theoule-sur-mer.fr/event/exposition-florence-vautherot/
LOCATION:Espace Culturel\, 9 avenue Charles Dahon\, Théoule sur Mer\, 06590\, France
CATEGORIES:Événements passés
ATTACH;FMTTYPE=image/jpeg:https://theoule-sur-mer.fr/wp-content/uploads/2025/02/EXPO-VAUTHEROT.jpg
ORGANIZER;CN="Service culturel %E2%80%93 Mairie de Th%C3%A9oule-sur-Mer":MAILTO:culture@ville-theoulesurmer.fr
END:VEVENT
END:VCALENDAR