BEGIN:VCALENDAR
VERSION:2.0
PRODID:-//Mairie de Théoule-sur-Mer - ECPv6.15.11//NONSGML v1.0//EN
CALSCALE:GREGORIAN
METHOD:PUBLISH
X-ORIGINAL-URL:https://theoule-sur-mer.fr
X-WR-CALDESC:Évènements pour Mairie de Théoule-sur-Mer
REFRESH-INTERVAL;VALUE=DURATION:PT1H
X-Robots-Tag:noindex
X-PUBLISHED-TTL:PT1H
BEGIN:VTIMEZONE
TZID:UTC
BEGIN:STANDARD
TZOFFSETFROM:+0000
TZOFFSETTO:+0000
TZNAME:UTC
DTSTART:20240101T000000
END:STANDARD
END:VTIMEZONE
BEGIN:VTIMEZONE
TZID:Europe/Paris
BEGIN:DAYLIGHT
TZOFFSETFROM:+0100
TZOFFSETTO:+0200
TZNAME:CEST
DTSTART:20240331T010000
END:DAYLIGHT
BEGIN:STANDARD
TZOFFSETFROM:+0200
TZOFFSETTO:+0100
TZNAME:CET
DTSTART:20241027T010000
END:STANDARD
BEGIN:DAYLIGHT
TZOFFSETFROM:+0100
TZOFFSETTO:+0200
TZNAME:CEST
DTSTART:20250330T010000
END:DAYLIGHT
BEGIN:STANDARD
TZOFFSETFROM:+0200
TZOFFSETTO:+0100
TZNAME:CET
DTSTART:20251026T010000
END:STANDARD
BEGIN:DAYLIGHT
TZOFFSETFROM:+0100
TZOFFSETTO:+0200
TZNAME:CEST
DTSTART:20260329T010000
END:DAYLIGHT
BEGIN:STANDARD
TZOFFSETFROM:+0200
TZOFFSETTO:+0100
TZNAME:CET
DTSTART:20261025T010000
END:STANDARD
END:VTIMEZONE
BEGIN:VEVENT
DTSTART;TZID=UTC:20250704T110000
DTEND;TZID=UTC:20250727T210000
DTSTAMP:20260420T220137
CREATED:20250610T125028Z
LAST-MODIFIED:20250710T090527Z
UID:7012-1751626800-1753650000@theoule-sur-mer.fr
SUMMARY:Exposition Najar 50 ans de peinture
DESCRIPTION:Exposition Peintures  \n\nDu 4 au 27 juillet 2025\nde 11h à 14h et de 17h à 21h\nVernissage le vendredi 4 juillet à 19h. \nLieu : Espace culturel – 9 avenue Charles Dahon \nOrganisation et renseignements : Astrid Najar – Galerie Carrée – Tél. / 06 17 81 15 08
URL:https://theoule-sur-mer.fr/event/exposition-50-ans-de-peinture-2025/
LOCATION:Espace Culturel\, 9 avenue Charles Dahon\, Théoule sur Mer\, 06590\, France
CATEGORIES:Événements passés
ATTACH;FMTTYPE=image/jpeg:https://theoule-sur-mer.fr/wp-content/uploads/2025/06/EXPO-NAJAR-2025.jpg
ORGANIZER;CN="Service culturel %E2%80%93 Mairie de Th%C3%A9oule-sur-Mer":MAILTO:culture@ville-theoulesurmer.fr
END:VEVENT
BEGIN:VEVENT
DTSTART;TZID=Europe/Paris:20250720T210000
DTEND;TZID=Europe/Paris:20250720T223000
DTSTAMP:20260420T220137
CREATED:20250710T093210Z
LAST-MODIFIED:20250710T141128Z
UID:7161-1753045200-1753050600@theoule-sur-mer.fr
SUMMARY:More Amour en concert
DESCRIPTION:Groupe de Pop-Rock Cannois – 21h-Rose des Vents\, Plage du Château\n \nAmis depuis l’enfance\, Nicolas\, Clément et Paul forment More Amour\, un groupe de musique à cheval entre musique pop et son rock\, à découvrir ou redécouvrir lors de leur concert sur la Rose des Vents\, Plage du Château.\n(entrée gratuite)
URL:https://theoule-sur-mer.fr/event/more-amour-en-concert/
LOCATION:Rose des Vents\, Plage du Château\, 63B Av. de Lérins\, Théoule sur Mer\, 06590\, France
CATEGORIES:Événements passés
ATTACH;FMTTYPE=image/jpeg:https://theoule-sur-mer.fr/wp-content/uploads/2025/07/More-Amour-site.jpg
ORGANIZER;CN="Service culturel %E2%80%93 Mairie de Th%C3%A9oule-sur-Mer":MAILTO:culture@ville-theoulesurmer.fr
END:VEVENT
END:VCALENDAR