BEGIN:VCALENDAR
VERSION:2.0
PRODID:-//Mairie de Théoule-sur-Mer - ECPv6.15.11//NONSGML v1.0//EN
CALSCALE:GREGORIAN
METHOD:PUBLISH
X-WR-CALNAME:Mairie de Théoule-sur-Mer
X-ORIGINAL-URL:https://theoule-sur-mer.fr
X-WR-CALDESC:Évènements pour Mairie de Théoule-sur-Mer
REFRESH-INTERVAL;VALUE=DURATION:PT1H
X-Robots-Tag:noindex
X-PUBLISHED-TTL:PT1H
BEGIN:VTIMEZONE
TZID:Europe/Paris
BEGIN:DAYLIGHT
TZOFFSETFROM:+0100
TZOFFSETTO:+0200
TZNAME:CEST
DTSTART:20240331T010000
END:DAYLIGHT
BEGIN:STANDARD
TZOFFSETFROM:+0200
TZOFFSETTO:+0100
TZNAME:CET
DTSTART:20241027T010000
END:STANDARD
BEGIN:DAYLIGHT
TZOFFSETFROM:+0100
TZOFFSETTO:+0200
TZNAME:CEST
DTSTART:20250330T010000
END:DAYLIGHT
BEGIN:STANDARD
TZOFFSETFROM:+0200
TZOFFSETTO:+0100
TZNAME:CET
DTSTART:20251026T010000
END:STANDARD
BEGIN:DAYLIGHT
TZOFFSETFROM:+0100
TZOFFSETTO:+0200
TZNAME:CEST
DTSTART:20260329T010000
END:DAYLIGHT
BEGIN:STANDARD
TZOFFSETFROM:+0200
TZOFFSETTO:+0100
TZNAME:CET
DTSTART:20261025T010000
END:STANDARD
END:VTIMEZONE
BEGIN:VEVENT
DTSTART;TZID=Europe/Paris:20250820T183000
DTEND;TZID=Europe/Paris:20250820T200000
DTSTAMP:20260420T203721
CREATED:20250729T141728Z
LAST-MODIFIED:20250729T141728Z
UID:7382-1755714600-1755720000@theoule-sur-mer.fr
SUMMARY:Randonnée pédestre
DESCRIPTION:Départ 18h30 -Place Général Bertrand – Inscriptions obligatoires\n \nassociationterre.fr – 06 22 82 43 22 – terre@associationterre.fr \nDurée 1h30 à 2h\nChaussures de marche conseillées.\nGratuit et accessible à tous.
URL:https://theoule-sur-mer.fr/event/randonnee-pedestre-3/
LOCATION:Place Général Bertrand\, Place Général Bertrand\, Théoule sur Mer\, 06590\, France
CATEGORIES:Événements passés
ATTACH;FMTTYPE=image/jpeg:https://theoule-sur-mer.fr/wp-content/uploads/2025/07/TERRE-2008.jpg
ORGANIZER;CN="Association T.E.R.R.E. - Th%C3%A9oule Est%C3%A9rel Randonn%C3%A9es Rencontres Europ%C3%A9ennes":MAILTO:terre@associationterre.fr
END:VEVENT
END:VCALENDAR