BEGIN:VCALENDAR
VERSION:2.0
PRODID:-//Mairie de Théoule-sur-Mer - ECPv6.15.11//NONSGML v1.0//EN
CALSCALE:GREGORIAN
METHOD:PUBLISH
X-ORIGINAL-URL:https://theoule-sur-mer.fr
X-WR-CALDESC:Évènements pour Mairie de Théoule-sur-Mer
REFRESH-INTERVAL;VALUE=DURATION:PT1H
X-Robots-Tag:noindex
X-PUBLISHED-TTL:PT1H
BEGIN:VTIMEZONE
TZID:Europe/Paris
BEGIN:DAYLIGHT
TZOFFSETFROM:+0100
TZOFFSETTO:+0200
TZNAME:CEST
DTSTART:20240331T010000
END:DAYLIGHT
BEGIN:STANDARD
TZOFFSETFROM:+0200
TZOFFSETTO:+0100
TZNAME:CET
DTSTART:20241027T010000
END:STANDARD
BEGIN:DAYLIGHT
TZOFFSETFROM:+0100
TZOFFSETTO:+0200
TZNAME:CEST
DTSTART:20250330T010000
END:DAYLIGHT
BEGIN:STANDARD
TZOFFSETFROM:+0200
TZOFFSETTO:+0100
TZNAME:CET
DTSTART:20251026T010000
END:STANDARD
BEGIN:DAYLIGHT
TZOFFSETFROM:+0100
TZOFFSETTO:+0200
TZNAME:CEST
DTSTART:20260329T010000
END:DAYLIGHT
BEGIN:STANDARD
TZOFFSETFROM:+0200
TZOFFSETTO:+0100
TZNAME:CET
DTSTART:20261025T010000
END:STANDARD
END:VTIMEZONE
BEGIN:VEVENT
DTSTART;TZID=Europe/Paris:20250920T110000
DTEND;TZID=Europe/Paris:20251005T190000
DTSTAMP:20260420T190853
CREATED:20250826T090231Z
LAST-MODIFIED:20251003T082706Z
UID:7482-1758366000-1759690800@theoule-sur-mer.fr
SUMMARY:Les Couleurs de la Vie
DESCRIPTION:Armelle Pruniaux – Zhu Yan – Calou\n \nLes artistes vous invitent à un voyage sensoriel et poétique à travers leurs univers.\nL’exposition « Les Couleurs de la Vie » célèbre la vitalité\, l’émotion et la diversité du monde à travers la peinture et la sculpture\, entre abstraction\, figuration et résonances intimes pour offrir une vision vibrante et profondément humaine de la vie.\nTout les jours du 20 SEPTEMBRE au 5 OCTOBRE – 11h/19h.\nEntrée libre- Renseignements : 06 09 09 10 22\nVernissage : Samedi 20 septembre à 18h\nDécrochage : Samedi 4 octobre
URL:https://theoule-sur-mer.fr/event/les-couleurs-de-la-vie/
LOCATION:Espace Culturel\, 9 avenue Charles Dahon\, Théoule sur Mer\, 06590\, France
CATEGORIES:Événements passés
ATTACH;FMTTYPE=image/jpeg:https://theoule-sur-mer.fr/wp-content/uploads/2025/08/Pour-site-2.jpg
ORGANIZER;CN="Service culturel %E2%80%93 Mairie de Th%C3%A9oule-sur-Mer":MAILTO:culture@ville-theoulesurmer.fr
END:VEVENT
END:VCALENDAR