BEGIN:VCALENDAR
VERSION:2.0
PRODID:-//Mairie de Théoule-sur-Mer - ECPv6.15.11//NONSGML v1.0//EN
CALSCALE:GREGORIAN
METHOD:PUBLISH
X-ORIGINAL-URL:https://theoule-sur-mer.fr
X-WR-CALDESC:Évènements pour Mairie de Théoule-sur-Mer
REFRESH-INTERVAL;VALUE=DURATION:PT1H
X-Robots-Tag:noindex
X-PUBLISHED-TTL:PT1H
BEGIN:VTIMEZONE
TZID:Europe/Paris
BEGIN:DAYLIGHT
TZOFFSETFROM:+0100
TZOFFSETTO:+0200
TZNAME:CEST
DTSTART:20240331T010000
END:DAYLIGHT
BEGIN:STANDARD
TZOFFSETFROM:+0200
TZOFFSETTO:+0100
TZNAME:CET
DTSTART:20241027T010000
END:STANDARD
BEGIN:DAYLIGHT
TZOFFSETFROM:+0100
TZOFFSETTO:+0200
TZNAME:CEST
DTSTART:20250330T010000
END:DAYLIGHT
BEGIN:STANDARD
TZOFFSETFROM:+0200
TZOFFSETTO:+0100
TZNAME:CET
DTSTART:20251026T010000
END:STANDARD
BEGIN:DAYLIGHT
TZOFFSETFROM:+0100
TZOFFSETTO:+0200
TZNAME:CEST
DTSTART:20260329T010000
END:DAYLIGHT
BEGIN:STANDARD
TZOFFSETFROM:+0200
TZOFFSETTO:+0100
TZNAME:CET
DTSTART:20261025T010000
END:STANDARD
END:VTIMEZONE
BEGIN:VEVENT
DTSTART;VALUE=DATE:20251001
DTEND;VALUE=DATE:20251103
DTSTAMP:20260420T173929
CREATED:20250915T091113Z
LAST-MODIFIED:20250917T090713Z
UID:7681-1759276800-1762127999@theoule-sur-mer.fr
SUMMARY:Automne à Théoule
DESCRIPTION:14ème édition « Tout l’Automne dans votre assiette ». \n\n\nDu 1er octobre au 02 novembre 2025\, pour la 14ème année\, les restaurateurs théouliens participants proposent des menus gastronomiques autour du champignon…\nInauguration publique « champignonade » mercredi 24 septembre 2025 à partir de 17h Parvis Salle de fêtes.\nFlyer
URL:https://theoule-sur-mer.fr/event/automne-a-theoule/
LOCATION:Théoule-sur-Mer\, 06590\, France
CATEGORIES:Événements passés
ATTACH;FMTTYPE=image/jpeg:https://theoule-sur-mer.fr/wp-content/uploads/2025/09/AUTOMNE-2025.jpg
ORGANIZER;CN="Office de Tourisme":MAILTO:ot@theoule-sur-mer.org
END:VEVENT
BEGIN:VEVENT
DTSTART;VALUE=DATE:20251006
DTEND;VALUE=DATE:20251011
DTSTAMP:20260420T173929
CREATED:20250902T122631Z
LAST-MODIFIED:20250902T123002Z
UID:7574-1759708800-1760140799@theoule-sur-mer.fr
SUMMARY:Semaine bleue
DESCRIPTION:Du 6 au 10 octobre\, animations\, sorties\, rencontres… \n\nLa Semaine Bleue 2025 se tiendra du 6 au 12 octobre partout en France\, y compris à Théoule-sur-Mer. Cet événement national célèbre les retraités et les personnes âgées (de plus de 65 ans)\, en mettant en lumière leur rôle essentiel dans la société et en favorisant les échanges intergénérationnels. Le thème de cette année est « Vieillir : une force à partager !\nProgramme 2025
URL:https://theoule-sur-mer.fr/event/semaine-bleue-2025/
CATEGORIES:Événements passés
ATTACH;FMTTYPE=image/jpeg:https://theoule-sur-mer.fr/wp-content/uploads/2025/09/semaine-bleue-2025.jpg
ORGANIZER;CN="CCAS - Centre Communal d'Action Sociale":MAILTO:ccas@ville-theoulesurmer.fr
END:VEVENT
END:VCALENDAR