BEGIN:VCALENDAR
VERSION:2.0
PRODID:-//Mairie de Théoule-sur-Mer - ECPv6.15.11//NONSGML v1.0//EN
CALSCALE:GREGORIAN
METHOD:PUBLISH
X-ORIGINAL-URL:https://theoule-sur-mer.fr
X-WR-CALDESC:Évènements pour Mairie de Théoule-sur-Mer
REFRESH-INTERVAL;VALUE=DURATION:PT1H
X-Robots-Tag:noindex
X-PUBLISHED-TTL:PT1H
BEGIN:VTIMEZONE
TZID:UTC
BEGIN:STANDARD
TZOFFSETFROM:+0000
TZOFFSETTO:+0000
TZNAME:UTC
DTSTART:20240101T000000
END:STANDARD
END:VTIMEZONE
BEGIN:VTIMEZONE
TZID:Europe/Paris
BEGIN:DAYLIGHT
TZOFFSETFROM:+0100
TZOFFSETTO:+0200
TZNAME:CEST
DTSTART:20240331T010000
END:DAYLIGHT
BEGIN:STANDARD
TZOFFSETFROM:+0200
TZOFFSETTO:+0100
TZNAME:CET
DTSTART:20241027T010000
END:STANDARD
BEGIN:DAYLIGHT
TZOFFSETFROM:+0100
TZOFFSETTO:+0200
TZNAME:CEST
DTSTART:20250330T010000
END:DAYLIGHT
BEGIN:STANDARD
TZOFFSETFROM:+0200
TZOFFSETTO:+0100
TZNAME:CET
DTSTART:20251026T010000
END:STANDARD
BEGIN:DAYLIGHT
TZOFFSETFROM:+0100
TZOFFSETTO:+0200
TZNAME:CEST
DTSTART:20260329T010000
END:DAYLIGHT
BEGIN:STANDARD
TZOFFSETFROM:+0200
TZOFFSETTO:+0100
TZNAME:CET
DTSTART:20261025T010000
END:STANDARD
END:VTIMEZONE
BEGIN:VEVENT
DTSTART;TZID=UTC:20250426T083000
DTEND;TZID=UTC:20250426T140000
DTSTAMP:20260421T010850
CREATED:20250317T153759Z
LAST-MODIFIED:20250325T090957Z
UID:6511-1745656200-1745676000@theoule-sur-mer.fr
SUMMARY:Nettoyons le SUD
DESCRIPTION:Nettoyons le Sud\, c’est la grande journée de ramassage qui réunit les communes\, associations et citoyens de la Région Sud ! \n \nLe 26 avril\, tout le monde peut participer ! Au sein de notre commune ou ailleurs sur le territoire\, des équipes vous accueillent et vous fournissent le nécessaire au ramassage. Donnez quelques heures de votre temps et contribuez activement à rendre notre territoire plus beau ! A l’initiative de la Région Provence-Alpes-Côte d’Azur. \nInscriptions ICI \n 
URL:https://theoule-sur-mer.fr/event/nettoyons-le-sud-2025/
LOCATION:Esplanade Charles de Gaulle\, 1 Chemin du Débarcadère\, Théoule sur Mer\, 06590\, France
CATEGORIES:Événements passés
ATTACH;FMTTYPE=image/jpeg:https://theoule-sur-mer.fr/wp-content/uploads/2025/03/nettoyons-le-sud-2025.jpg
ORGANIZER;CN="Mairie de Th%C3%A9oule-sur-Mer":MAILTO:mairie@ville-theoulesurmer.fr
END:VEVENT
BEGIN:VEVENT
DTSTART;TZID=Europe/Paris:20250426T103000
DTEND;TZID=Europe/Paris:20250511T183000
DTSTAMP:20260421T010850
CREATED:20250402T120936Z
LAST-MODIFIED:20250402T121329Z
UID:6665-1745663400-1746988200@theoule-sur-mer.fr
SUMMARY:Hommage à GILBERT PAUL
DESCRIPTION:« L’expressionniste tend à déformer la réalité pour inspirer au spectateur une réaction émotionnelle. » Gilbert Paul peintre expressionniste \n \nVenez découvrir ou redécouvrir l’univers de Gilbert Paul dans cette exposition hommage\ndu samedi 26 avril au dimanche 11 mai 2025\, 10h30-18h30\nVernissage le 26 avril à 18h30\nEspace Culturel\n9 av Charles Dahon
URL:https://theoule-sur-mer.fr/event/hommage-a-gilbert-paul/
LOCATION:Espace Culturel\, 9 avenue Charles Dahon\, Théoule sur Mer\, 06590\, France
CATEGORIES:Événements passés
ATTACH;FMTTYPE=image/jpeg:https://theoule-sur-mer.fr/wp-content/uploads/2025/04/visuel-site.jpg
ORGANIZER;CN="Service culturel %E2%80%93 Mairie de Th%C3%A9oule-sur-Mer":MAILTO:culture@ville-theoulesurmer.fr
END:VEVENT
END:VCALENDAR