BEGIN:VCALENDAR
VERSION:2.0
PRODID:-//Mairie de Théoule-sur-Mer - ECPv6.15.11//NONSGML v1.0//EN
CALSCALE:GREGORIAN
METHOD:PUBLISH
X-ORIGINAL-URL:https://theoule-sur-mer.fr
X-WR-CALDESC:Évènements pour Mairie de Théoule-sur-Mer
REFRESH-INTERVAL;VALUE=DURATION:PT1H
X-Robots-Tag:noindex
X-PUBLISHED-TTL:PT1H
BEGIN:VTIMEZONE
TZID:Europe/Paris
BEGIN:DAYLIGHT
TZOFFSETFROM:+0100
TZOFFSETTO:+0200
TZNAME:CEST
DTSTART:20240331T010000
END:DAYLIGHT
BEGIN:STANDARD
TZOFFSETFROM:+0200
TZOFFSETTO:+0100
TZNAME:CET
DTSTART:20241027T010000
END:STANDARD
BEGIN:DAYLIGHT
TZOFFSETFROM:+0100
TZOFFSETTO:+0200
TZNAME:CEST
DTSTART:20250330T010000
END:DAYLIGHT
BEGIN:STANDARD
TZOFFSETFROM:+0200
TZOFFSETTO:+0100
TZNAME:CET
DTSTART:20251026T010000
END:STANDARD
BEGIN:DAYLIGHT
TZOFFSETFROM:+0100
TZOFFSETTO:+0200
TZNAME:CEST
DTSTART:20260329T010000
END:DAYLIGHT
BEGIN:STANDARD
TZOFFSETFROM:+0200
TZOFFSETTO:+0100
TZNAME:CET
DTSTART:20261025T010000
END:STANDARD
END:VTIMEZONE
BEGIN:VEVENT
DTSTART;TZID=Europe/Paris:20250330T090000
DTEND;TZID=Europe/Paris:20250330T130000
DTSTAMP:20260421T023520
CREATED:20250303T085058Z
LAST-MODIFIED:20250303T094235Z
UID:6338-1743325200-1743339600@theoule-sur-mer.fr
SUMMARY:Championnat PACA de rame traditionnelle
DESCRIPTION:Venez encourager les équipes sur la plage du Suveret !
URL:https://theoule-sur-mer.fr/event/championnat-paca-de-rame-traditionnelle/
LOCATION:Plage du Suveret\, Plage du Suveret\, Théoule sur Mer\, 06590\, France
CATEGORIES:Événements passés
ATTACH;FMTTYPE=image/jpeg:https://theoule-sur-mer.fr/wp-content/uploads/2025/03/Rame-Paca-300325-scaled.jpg
END:VEVENT
END:VCALENDAR