BEGIN:VCALENDAR
VERSION:2.0
PRODID:-//Mairie de Théoule-sur-Mer - ECPv6.15.11//NONSGML v1.0//EN
CALSCALE:GREGORIAN
METHOD:PUBLISH
X-WR-CALNAME:Mairie de Théoule-sur-Mer
X-ORIGINAL-URL:https://theoule-sur-mer.fr
X-WR-CALDESC:Évènements pour Mairie de Théoule-sur-Mer
REFRESH-INTERVAL;VALUE=DURATION:PT1H
X-Robots-Tag:noindex
X-PUBLISHED-TTL:PT1H
BEGIN:VTIMEZONE
TZID:UTC
BEGIN:STANDARD
TZOFFSETFROM:+0000
TZOFFSETTO:+0000
TZNAME:UTC
DTSTART:20240101T000000
END:STANDARD
END:VTIMEZONE
BEGIN:VTIMEZONE
TZID:Europe/Paris
BEGIN:DAYLIGHT
TZOFFSETFROM:+0100
TZOFFSETTO:+0200
TZNAME:CEST
DTSTART:20240331T010000
END:DAYLIGHT
BEGIN:STANDARD
TZOFFSETFROM:+0200
TZOFFSETTO:+0100
TZNAME:CET
DTSTART:20241027T010000
END:STANDARD
BEGIN:DAYLIGHT
TZOFFSETFROM:+0100
TZOFFSETTO:+0200
TZNAME:CEST
DTSTART:20250330T010000
END:DAYLIGHT
BEGIN:STANDARD
TZOFFSETFROM:+0200
TZOFFSETTO:+0100
TZNAME:CET
DTSTART:20251026T010000
END:STANDARD
BEGIN:DAYLIGHT
TZOFFSETFROM:+0100
TZOFFSETTO:+0200
TZNAME:CEST
DTSTART:20260329T010000
END:DAYLIGHT
BEGIN:STANDARD
TZOFFSETFROM:+0200
TZOFFSETTO:+0100
TZNAME:CET
DTSTART:20261025T010000
END:STANDARD
END:VTIMEZONE
BEGIN:VEVENT
DTSTART;TZID=UTC:20250802T110000
DTEND;TZID=UTC:20250817T200000
DTSTAMP:20260420T190255
CREATED:20250611T135926Z
LAST-MODIFIED:20250725T081439Z
UID:7025-1754132400-1755460800@theoule-sur-mer.fr
SUMMARY:Exposition "Résonnances"
DESCRIPTION:Exposition des peintures de Pascale Picot. \n\nDu 2 au 17 août 2025\nde 11h à 14h30 et de 16h à 20h\nVernissage le samedi 9 août de 18h30 à 20h30.\nConsultez sa bio \nLieu : Espace culturel – 9 avenue Charles Dahon \nOrganisation et renseignements :  pascale.picot@hotmail.fr Tél. : 06 23 39 11 69
URL:https://theoule-sur-mer.fr/event/exposition-resonnances/
LOCATION:Espace Culturel\, 9 avenue Charles Dahon\, Théoule sur Mer\, 06590\, France
CATEGORIES:Événements passés
ATTACH;FMTTYPE=image/jpeg:https://theoule-sur-mer.fr/wp-content/uploads/2025/06/PASCALE-PICOT-2025.jpg
ORGANIZER;CN="Service culturel %E2%80%93 Mairie de Th%C3%A9oule-sur-Mer":MAILTO:culture@ville-theoulesurmer.fr
END:VEVENT
BEGIN:VEVENT
DTSTART;VALUE=DATE:20250814
DTEND;VALUE=DATE:20250817
DTSTAMP:20260420T190255
CREATED:20250716T123653Z
LAST-MODIFIED:20250728T143040Z
UID:7253-1755129600-1755388799@theoule-sur-mer.fr
SUMMARY:81ème anniversaire du débarquement de Provence
DESCRIPTION:du 14 au 16 août\n\nJeudi 14 AOÛT\n18h30 – Hommage au Groupe Naval d’Assaut de Corse\, Croix de Lorraine – Verre de l’amitié\nVendredi 15 AOÛT\n9h – Messe en l’église Ste Germaine de Pibrac\n10h – Défilé et embarquement des autorités – Débarcadère Promenade Pradayrol\n10h30 – Cérémonie en mer\, Pointe de l’Esquillon\n12h – Allocutions des autorités\, Esplanade Charles de Gaulle – Cocktail\nà partir de 19h – Bal des Pompiers Full Moon Party\, Rose des vents\, Épi du Canon\nsamedi 16 AOÛT\nCommémoration de la Libération de Théoule-sur-Mer\, 1ère ville des Alpes-Maritimes à être libérée\n11h – Dépôt de gerbes plaque Commando US\, Place Général Bertrand – Verre de l’amitié\n20h30 – Paëlla géante avec animation\, Plage du Suveret\n(réservation à l’office de Tourisme au : 04 93 49 28 28) \nConsultez l’invitation
URL:https://theoule-sur-mer.fr/event/81eme-anniversaire-du-debarquement-de-provence/
LOCATION:Théoule-sur-Mer\, 06590\, France
CATEGORIES:Événements passés
ATTACH;FMTTYPE=image/jpeg:https://theoule-sur-mer.fr/wp-content/uploads/2025/07/Carton-invitation-81-debarquement.jpg
ORGANIZER;CN="Mairie de Th%C3%A9oule-sur-Mer":MAILTO:mairie@ville-theoulesurmer.fr
END:VEVENT
BEGIN:VEVENT
DTSTART;TZID=Europe/Paris:20250815T190000
DTEND;TZID=Europe/Paris:20250815T230000
DTSTAMP:20260420T190255
CREATED:20250724T080945Z
LAST-MODIFIED:20250724T110636Z
UID:7327-1755284400-1755298800@theoule-sur-mer.fr
SUMMARY:Bal des Pompiers
DESCRIPTION:Venez vivre une soirée exceptionnelle au bal des pompiers\n \nUn DJ enflammera la piste sur le thème Full Moon Party\, Stand de maquillage fluo\, snacking et bar\, et plein de surprises concoctées par les Sapeurs-Pompiers de Théoule !\nÀ partir de 19h – vendredi 15 août\, Rose des Vents – plage du Château – Entrée gratuite.
URL:https://theoule-sur-mer.fr/event/bal-des-pompiers/
LOCATION:Rose des Vents\, Plage du Château\, 63B Av. de Lérins\, Théoule sur Mer\, 06590\, France
CATEGORIES:Événements passés
ATTACH;FMTTYPE=image/jpeg:https://theoule-sur-mer.fr/wp-content/uploads/2025/07/Bal-des-pompiers.jpg
ORGANIZER;CN="Service culturel %E2%80%93 Mairie de Th%C3%A9oule-sur-Mer":MAILTO:culture@ville-theoulesurmer.fr
END:VEVENT
END:VCALENDAR