BEGIN:VCALENDAR
VERSION:2.0
PRODID:-//Mairie de Théoule-sur-Mer - ECPv6.15.11//NONSGML v1.0//EN
CALSCALE:GREGORIAN
METHOD:PUBLISH
X-ORIGINAL-URL:https://theoule-sur-mer.fr
X-WR-CALDESC:Évènements pour Mairie de Théoule-sur-Mer
REFRESH-INTERVAL;VALUE=DURATION:PT1H
X-Robots-Tag:noindex
X-PUBLISHED-TTL:PT1H
BEGIN:VTIMEZONE
TZID:UTC
BEGIN:STANDARD
TZOFFSETFROM:+0000
TZOFFSETTO:+0000
TZNAME:UTC
DTSTART:20240101T000000
END:STANDARD
END:VTIMEZONE
BEGIN:VTIMEZONE
TZID:Europe/Paris
BEGIN:DAYLIGHT
TZOFFSETFROM:+0100
TZOFFSETTO:+0200
TZNAME:CEST
DTSTART:20240331T010000
END:DAYLIGHT
BEGIN:STANDARD
TZOFFSETFROM:+0200
TZOFFSETTO:+0100
TZNAME:CET
DTSTART:20241027T010000
END:STANDARD
BEGIN:DAYLIGHT
TZOFFSETFROM:+0100
TZOFFSETTO:+0200
TZNAME:CEST
DTSTART:20250330T010000
END:DAYLIGHT
BEGIN:STANDARD
TZOFFSETFROM:+0200
TZOFFSETTO:+0100
TZNAME:CET
DTSTART:20251026T010000
END:STANDARD
BEGIN:DAYLIGHT
TZOFFSETFROM:+0100
TZOFFSETTO:+0200
TZNAME:CEST
DTSTART:20260329T010000
END:DAYLIGHT
BEGIN:STANDARD
TZOFFSETFROM:+0200
TZOFFSETTO:+0100
TZNAME:CET
DTSTART:20261025T010000
END:STANDARD
END:VTIMEZONE
BEGIN:VEVENT
DTSTART;TZID=UTC:20250823T100000
DTEND;TZID=UTC:20250914T190000
DTSTAMP:20260420T190556
CREATED:20250317T073911Z
LAST-MODIFIED:20250721T122026Z
UID:4139-1755943200-1757876400@theoule-sur-mer.fr
SUMMARY:Exposition Rencontre Art Contemporain
DESCRIPTION:10 artistes exposent peintures et sculptures. \n \nPar L’ATELIER DU LUNDI\nInvitée d’honneur Marie Boquet.\nVernissage samedi 30 août à 18h30 \nEntrée libre de 10h à 19h\nRenseignements : 0670850460
URL:https://theoule-sur-mer.fr/event/exposition-rencontre-art-contemporain2025/
LOCATION:Espace Culturel\, 9 avenue Charles Dahon\, Théoule sur Mer\, 06590\, France
CATEGORIES:Événements passés
ATTACH;FMTTYPE=image/jpeg:https://theoule-sur-mer.fr/wp-content/uploads/2025/03/EXPO-RAC.jpg
ORGANIZER;CN="Service culturel %E2%80%93 Mairie de Th%C3%A9oule-sur-Mer":MAILTO:culture@ville-theoulesurmer.fr
END:VEVENT
BEGIN:VEVENT
DTSTART;VALUE=DATE:20250606
DTEND;VALUE=DATE:20250608
DTSTAMP:20260420T190556
CREATED:20250526T081737Z
LAST-MODIFIED:20250526T082416Z
UID:6945-1749168000-1749340799@theoule-sur-mer.fr
SUMMARY:EMAT spectacles de fin d'année
DESCRIPTION:Deux rendez-vous riches en émotions\, en rires et en musique à ne pas manquer. \nVenez applaudir leur travail\, passer un bon moment\, et fêter cette belle fin d’année tous ensemble.\nVendredi 6 juin – 19h\nSpectacle de théâtre – les élèves montent sur scène !\nSamedi 7 juin – 14h\nMusique & chant – place aux talents ! \nEntrée libre – ambiance conviviale garantie ! \nTélécharger le programme \n 
URL:https://theoule-sur-mer.fr/event/emat-spectacles-finannee2025/
LOCATION:Salle des fêtes\, Place Général Bertrand\, THEOULE-SUR-MER\, 06590\, France
CATEGORIES:Événements passés
ATTACH;FMTTYPE=image/jpeg:https://theoule-sur-mer.fr/wp-content/uploads/2025/05/emat-spectacles-fin-annee-2025.jpg
ORGANIZER;CN="EMAT Ecole de Musique et Artistique de Th%C3%A9oule-sur-Mer":MAILTO:emat@ville-theoulesurmer.fr
END:VEVENT
BEGIN:VEVENT
DTSTART;VALUE=DATE:20250914
DTEND;VALUE=DATE:20250915
DTSTAMP:20260420T190556
CREATED:20250903T070735Z
LAST-MODIFIED:20250903T070735Z
UID:7589-1757808000-1757894399@theoule-sur-mer.fr
SUMMARY:Challenge de joutes
DESCRIPTION:Mémorial joutes provençales \nVenez encourager les équipes au Port de Théoule.\nJournée de dimanche 14 septembre 2025.\nChallenge mémorial : Bernadette Cavalli\, Gaby Garaffio\, Gabriel Baldini et Général Bertrand.
URL:https://theoule-sur-mer.fr/event/challenge-de-joutes/
LOCATION:Port de Théoule\, Port de Théoule sur Mer\, Théoule sur Mer\, 06590\, France
CATEGORIES:Événements passés
ATTACH;FMTTYPE=image/jpeg:https://theoule-sur-mer.fr/wp-content/uploads/2025/09/challenge-14092025.jpg
ORGANIZER;CN="Soci%C3%A9t%C3%A9 Neptune de Joutes":MAILTO:neptunejoutetheoule@yahoo.com
END:VEVENT
BEGIN:VEVENT
DTSTART;TZID=Europe/Paris:20250914T080000
DTEND;TZID=Europe/Paris:20250914T170000
DTSTAMP:20260420T190556
CREATED:20250827T114718Z
LAST-MODIFIED:20250828T122317Z
UID:7520-1757836800-1757869200@theoule-sur-mer.fr
SUMMARY:Vide grenier
DESCRIPTION:Venez chinez\, vendre ou flâner au Port de La Figueirette. \n \nOrganisé par l’association « Arts et Bien-être » de 8h à 17h.\nRenseignements : 06 60 26 47 64
URL:https://theoule-sur-mer.fr/event/vide-grenier-2/
LOCATION:Port de la Figueirette\, 7 avenue du Trayas\, Théoule sur Mer\, 06590\, France
CATEGORIES:Événements passés
ATTACH;FMTTYPE=image/jpeg:https://theoule-sur-mer.fr/wp-content/uploads/2025/08/Pour-site-VDF.jpg
ORGANIZER;CN="Arts et bien %C3%AAtre":MAILTO:espaceartsetbienetre@gmail.com
END:VEVENT
END:VCALENDAR