BEGIN:VCALENDAR
VERSION:2.0
PRODID:-//Mairie de Théoule-sur-Mer - ECPv6.15.11//NONSGML v1.0//EN
CALSCALE:GREGORIAN
METHOD:PUBLISH
X-ORIGINAL-URL:https://theoule-sur-mer.fr
X-WR-CALDESC:Évènements pour Mairie de Théoule-sur-Mer
REFRESH-INTERVAL;VALUE=DURATION:PT1H
X-Robots-Tag:noindex
X-PUBLISHED-TTL:PT1H
BEGIN:VTIMEZONE
TZID:UTC
BEGIN:STANDARD
TZOFFSETFROM:+0000
TZOFFSETTO:+0000
TZNAME:UTC
DTSTART:20240101T000000
END:STANDARD
END:VTIMEZONE
BEGIN:VTIMEZONE
TZID:Europe/Paris
BEGIN:DAYLIGHT
TZOFFSETFROM:+0100
TZOFFSETTO:+0200
TZNAME:CEST
DTSTART:20240331T010000
END:DAYLIGHT
BEGIN:STANDARD
TZOFFSETFROM:+0200
TZOFFSETTO:+0100
TZNAME:CET
DTSTART:20241027T010000
END:STANDARD
BEGIN:DAYLIGHT
TZOFFSETFROM:+0100
TZOFFSETTO:+0200
TZNAME:CEST
DTSTART:20250330T010000
END:DAYLIGHT
BEGIN:STANDARD
TZOFFSETFROM:+0200
TZOFFSETTO:+0100
TZNAME:CET
DTSTART:20251026T010000
END:STANDARD
BEGIN:DAYLIGHT
TZOFFSETFROM:+0100
TZOFFSETTO:+0200
TZNAME:CEST
DTSTART:20260329T010000
END:DAYLIGHT
BEGIN:STANDARD
TZOFFSETFROM:+0200
TZOFFSETTO:+0100
TZNAME:CET
DTSTART:20261025T010000
END:STANDARD
END:VTIMEZONE
BEGIN:VEVENT
DTSTART;VALUE=DATE:20250530
DTEND;VALUE=DATE:20250602
DTSTAMP:20260420T202711
CREATED:20250519T074838Z
LAST-MODIFIED:20250522T140719Z
UID:6857-1748563200-1748822399@theoule-sur-mer.fr
SUMMARY:Ateliers participatifs
DESCRIPTION:Le Département des Alpes-Maritimes propose des atelier participatifs pour la sensibilisation à la biodiversité dans le Parc Naturel Départemental de l’Estérel. \n \nPartez à la découverte d’insectes et d’araignées avec des scientifiques les 30\, 31 mai et 1er juin 14h-16h30 ou 21h-23h.\nInscriptions ICI \nLe Pacte citoyen pour la Nature – Lucia a pour objectif d’encourager un changement de pratiques en faveur de la biodiversité. Ce projet invite les citoyens à rejoindre une communauté engagée et à signer un engagement moral pour agir concrètement dans leur quotidien en faveur de la nature. En tant que signataires\, ils bénéficient d’un accompagnement via des ateliers gratuits\, conçus pour sensibiliser\, encourager un changement de pratiques en faveur des écosystèmes qui les entourent. La première saison du Pacte est dédiée aux petites bêtes (insectes et araignées)\, avec pour objectif de faire découvrir leur rôle essentiel et d’apprendre à cohabiter avec elles de manière respectueuse. \nSigner le Pacte Nature Lucia \n  \n 
URL:https://theoule-sur-mer.fr/event/ateliers-participatifs/
CATEGORIES:Événements passés
ATTACH;FMTTYPE=image/jpeg:https://theoule-sur-mer.fr/wp-content/uploads/2025/05/lucia.jpg
END:VEVENT
BEGIN:VEVENT
DTSTART;TZID=UTC:20250610T120000
DTEND;TZID=UTC:20250630T200000
DTSTAMP:20260420T202711
CREATED:20250428T082654Z
LAST-MODIFIED:20250515T065835Z
UID:6790-1749556800-1751313600@theoule-sur-mer.fr
SUMMARY:Exposition CASTRO. & Co
DESCRIPTION:Exposition « Le souffle du coeur »\, arts contemporains\, oeuvres uniques. \n \nPar CASTRO.&CO\nArtistes : Calou\, Castro.\, Linda Portelli\, Georges Bonopera\, Marc Cléguer\, Anna Sittner\nEn partenariat avec ARTS YOURHOPE\nVernissage dimanche 15 juin à 16h \nEntrée libre de 12h à 20h\nRenseignements : 0603491177
URL:https://theoule-sur-mer.fr/event/exposition-castro2025/
LOCATION:Espace Culturel\, 9 avenue Charles Dahon\, Théoule sur Mer\, 06590\, France
CATEGORIES:Événements passés
ATTACH;FMTTYPE=image/jpeg:https://theoule-sur-mer.fr/wp-content/uploads/2025/04/CASTRO-2025.jpg
ORGANIZER;CN="Service culturel %E2%80%93 Mairie de Th%C3%A9oule-sur-Mer":MAILTO:culture@ville-theoulesurmer.fr
END:VEVENT
BEGIN:VEVENT
DTSTART;TZID=Europe/Paris:20250614T140000
DTEND;TZID=Europe/Paris:20250614T170000
DTSTAMP:20260420T202711
CREATED:20250612T075151Z
LAST-MODIFIED:20250612T075220Z
UID:7033-1749909600-1749920400@theoule-sur-mer.fr
SUMMARY:Joutes provençales - Critérium National de la jeunesse
DESCRIPTION:Venez nombreux encourager les jeunes jouteurs ! \n\nPort de Théoule samedi 14 juin à partir de 14h
URL:https://theoule-sur-mer.fr/event/joutes-provencales-criterium-national-de-la-jeunesse/
LOCATION:Port de Théoule\, Port de Théoule sur Mer\, Théoule sur Mer\, 06590\, France
CATEGORIES:Événements passés
ATTACH;FMTTYPE=image/jpeg:https://theoule-sur-mer.fr/wp-content/uploads/2025/06/site-criterium-jeunesse.jpg
ORGANIZER;CN="Soci%C3%A9t%C3%A9 Neptune de Joutes":MAILTO:neptunejoutetheoule@yahoo.com
END:VEVENT
BEGIN:VEVENT
DTSTART;TZID=UTC:20250618T184500
DTEND;TZID=UTC:20250618T190000
DTSTAMP:20260420T202711
CREATED:20250511T054102Z
LAST-MODIFIED:20250521T085852Z
UID:4029-1750272300-1750273200@theoule-sur-mer.fr
SUMMARY:Appel du 18 juin du Général de Gaulle
DESCRIPTION:Cérémonie Commémorative. \nAppel du 18 juin Londres Général de Gaulle. Lecture de l‘appel. Dépôt de gerbes.\nMémorial de la Croix de Lorraine  18h45
URL:https://theoule-sur-mer.fr/event/appel-du-18-juin-londres-general-de-gaulle/
LOCATION:Croix de Lorraine\, Monument aux Morts de Théoule - Croix de Lorraine\, 06590\, France
CATEGORIES:Événements passés
ATTACH;FMTTYPE=image/jpeg:https://theoule-sur-mer.fr/wp-content/uploads/2024/04/drapeau-commemorations.jpg
ORGANIZER;CN="Union nationale des Combattants - UNC":MAILTO:raymondietheoule@gmail.com
END:VEVENT
BEGIN:VEVENT
DTSTART;TZID=UTC:20250629T083000
DTEND;TZID=UTC:20250629T170000
DTSTAMP:20260420T202711
CREATED:20250525T103422Z
LAST-MODIFIED:20250526T123224Z
UID:4025-1751185800-1751216400@theoule-sur-mer.fr
SUMMARY:Trail longe côte Terre/Mer
DESCRIPTION:Le dimanche 29 juin 2025 à partir de 8h30\, venez vivre le 4ème Trail Longe Côte de Théoule-sur-Mer. \n \nVenez nombreux vous inscrire à Théoule-sur-Mer\, pour cette quatrième édition du TERRE/MER. \nLe Trail Longe Côte Terre/Mer est un événement sportif unique qui combine la pratique du Longe Côte (marche aquatique en mer) avec du trail ou de la marche dynamique sur les portions terrestres du littoral\, entre la base nautique et la Pointe de l’Aiguille.\nCette manifestation est organisée par l’Association TERRE en partenariat avec la ville de Théoule-sur-Mer et la Fédération Française de Randonnée.\nInscriptions : https://urlz.fr/qZpl
URL:https://theoule-sur-mer.fr/event/trail-longe-cote-terre-mer-2025/
LOCATION:Plage du Suveret\, Plage du Suveret\, Théoule sur Mer\, 06590\, France
CATEGORIES:Événements passés
ATTACH;FMTTYPE=image/jpeg:https://theoule-sur-mer.fr/wp-content/uploads/2025/05/trail-longe-cote-2025.jpg
ORGANIZER;CN="Association T.E.R.R.E. - Th%C3%A9oule Est%C3%A9rel Randonn%C3%A9es Rencontres Europ%C3%A9ennes":MAILTO:terre@associationterre.fr
END:VEVENT
BEGIN:VEVENT
DTSTART;TZID=UTC:20250629T090000
DTEND;TZID=UTC:20250629T170000
DTSTAMP:20260420T202711
CREATED:20250602T110914Z
LAST-MODIFIED:20250619T112353Z
UID:4101-1751187600-1751216400@theoule-sur-mer.fr
SUMMARY:Vide bateaux
DESCRIPTION:Achat-vente matériels d’accastillage\nObjets liés au nautisme\nOuvert à tous \n \nPetite restauration\nLieu : Port de le Figueirette – 9h à 17h \nContacts organisateurs : Yacht Club Figueirette – 0685861406 et yclfmiramar@gmail.com
URL:https://theoule-sur-mer.fr/event/vide-bateaux2025/
LOCATION:Port de la Figueirette\, 7 avenue du Trayas\, Théoule sur Mer\, 06590\, France
CATEGORIES:Événements passés
ATTACH;FMTTYPE=image/jpeg:https://theoule-sur-mer.fr/wp-content/uploads/2025/06/Visuel-pour-site.jpg
ORGANIZER;CN="Yacht club Figueirette":MAILTO:yclfmiramar@gmail.com
END:VEVENT
END:VCALENDAR